BEGIN:VCALENDAR
VERSION:2.0
PRODID:-//Niagara Falls Hotels - ECPv6.15.20//NONSGML v1.0//EN
CALSCALE:GREGORIAN
METHOD:PUBLISH
X-ORIGINAL-URL:https://www.niagarafallshotels.com
X-WR-CALDESC:Events for Niagara Falls Hotels
REFRESH-INTERVAL;VALUE=DURATION:PT1H
X-Robots-Tag:noindex
X-PUBLISHED-TTL:PT1H
BEGIN:VTIMEZONE
TZID:America/Toronto
BEGIN:DAYLIGHT
TZOFFSETFROM:-0500
TZOFFSETTO:-0400
TZNAME:EDT
DTSTART:20250309T070000
END:DAYLIGHT
BEGIN:STANDARD
TZOFFSETFROM:-0400
TZOFFSETTO:-0500
TZNAME:EST
DTSTART:20251102T060000
END:STANDARD
BEGIN:DAYLIGHT
TZOFFSETFROM:-0500
TZOFFSETTO:-0400
TZNAME:EDT
DTSTART:20260308T070000
END:DAYLIGHT
BEGIN:STANDARD
TZOFFSETFROM:-0400
TZOFFSETTO:-0500
TZNAME:EST
DTSTART:20261101T060000
END:STANDARD
BEGIN:DAYLIGHT
TZOFFSETFROM:-0500
TZOFFSETTO:-0400
TZNAME:EDT
DTSTART:20270314T070000
END:DAYLIGHT
BEGIN:STANDARD
TZOFFSETFROM:-0400
TZOFFSETTO:-0500
TZNAME:EST
DTSTART:20271107T060000
END:STANDARD
END:VTIMEZONE
BEGIN:VEVENT
DTSTART;TZID=America/Toronto:20260425T120000
DTEND;TZID=America/Toronto:20260425T170000
DTSTAMP:20260425T205628
CREATED:20260424T160610Z
LAST-MODIFIED:20260424T160610Z
UID:10008522-1777118400-1777136400@www.niagarafallshotels.com
SUMMARY:Buffalo Bills Draft Day Event In Niagara Falls!
DESCRIPTION:The Buffalo Bills and Niagara Parks are teaming up to bring the excitement of the NFL Draft to Niagara Falls on Saturday\, April 25\, 2026!  \nThis fan-friendly Draft Day event marks the first-ever Buffalo Bills Draft pick called in Canada and celebrates the Buffalo Bills spirited Canadian fanbase\, Bills Mafia North.  \nThe Buffalo Bills Day 3 Draft selection will be called LIVE by influencers Briony\, Brendan Carpenter and Mack Falconer from the Friendship Arch outside Table Rock Centre in Niagara Falls\, Canada. The exact pick and round is to be determined. \nFrom 12 p.m. to 5 p.m.\, Bills Mafia North can enjoy special photo opportunities\, meet Billy Buffalo\, sip complimentary coffee from Street Brew\, take home exclusive Bills swag\, enter to win a pair of tickets to an upcoming Buffalo Bills home game\, and cheer on their team just steps from the thundering Falls. \nThe Falls will also be illuminated in blue and red at 10 p.m. to celebrate the first-ever Bills Draft pick in Canada! \n\nDate: Saturday\, April 25th\, 2026\nTime: 12:00pm-5:00pm\nLocation: Table Rock Centre
URL:https://www.niagarafallshotels.com/niagara-falls-events/buffalo-bills-draft-day-event-in-niagara-falls/
LOCATION:Table Rock Centre\, 6650 Niagara Rive Pkway\, Niagara Falls\, Ontario\, L2E 6T2\, Canada
END:VEVENT
END:VCALENDAR