BEGIN:VCALENDAR
VERSION:2.0
PRODID:-//Niagara Falls Hotels - ECPv6.15.20//NONSGML v1.0//EN
CALSCALE:GREGORIAN
METHOD:PUBLISH
X-WR-CALNAME:Niagara Falls Hotels
X-ORIGINAL-URL:https://www.niagarafallshotels.com
X-WR-CALDESC:Events for Niagara Falls Hotels
REFRESH-INTERVAL;VALUE=DURATION:PT1H
X-Robots-Tag:noindex
X-PUBLISHED-TTL:PT1H
BEGIN:VTIMEZONE
TZID:America/Toronto
BEGIN:DAYLIGHT
TZOFFSETFROM:-0500
TZOFFSETTO:-0400
TZNAME:EDT
DTSTART:20250309T070000
END:DAYLIGHT
BEGIN:STANDARD
TZOFFSETFROM:-0400
TZOFFSETTO:-0500
TZNAME:EST
DTSTART:20251102T060000
END:STANDARD
BEGIN:DAYLIGHT
TZOFFSETFROM:-0500
TZOFFSETTO:-0400
TZNAME:EDT
DTSTART:20260308T070000
END:DAYLIGHT
BEGIN:STANDARD
TZOFFSETFROM:-0400
TZOFFSETTO:-0500
TZNAME:EST
DTSTART:20261101T060000
END:STANDARD
BEGIN:DAYLIGHT
TZOFFSETFROM:-0500
TZOFFSETTO:-0400
TZNAME:EDT
DTSTART:20270314T070000
END:DAYLIGHT
BEGIN:STANDARD
TZOFFSETFROM:-0400
TZOFFSETTO:-0500
TZNAME:EST
DTSTART:20271107T060000
END:STANDARD
END:VTIMEZONE
BEGIN:VEVENT
DTSTART;TZID=America/Toronto:20260924T210000
DTEND;TZID=America/Toronto:20260924T223000
DTSTAMP:20260425T191654
CREATED:20251104T164651Z
LAST-MODIFIED:20260106T180003Z
UID:10007796-1790283600-1790289000@www.niagarafallshotels.com
SUMMARY:Three Dog Night
DESCRIPTION:Legendary band\, THREE DOG NIGHT\, now in its 6th decade\, claims some of the most astonishing statistics in popular music. In the years 1969 through 1974\, no other group achieved more top 10 hits\, moved more records\, or sold more concert tickets than THREE DOG NIGHT. \nBoasting chart and sales records that remain virtually unmatched in popular music\, THREE DOG NIGHT holds a Billboard Magazine record for releasing 21 consecutive Top 40 hits\, including 3 #1 singles “Mama Told Me (Not to Come)”\, “Joy to the World”\, and “Liar; the chart success drove 7 Platinum-selling singles and 12 straight RIAA Certified Gold LPs. The hits appeared on best-selling charts in all genres.  Its records continue to sell around the world\, reaching beyond the borders of the U.S. into Japan\, Canada\, Holland\, England\, Germany\, Spain and elsewhere. Tens of millions of THREE DOG NIGHT records have been sold through the years. \nRescheduled from November 7\, 2025.
URL:https://www.niagarafallshotels.com/niagara-falls-events/three-dog-night/
LOCATION:Fallsview Casino – OLG Stage At Fallsview Casino – 6366 Stanley Avenue Niagara Falls L2G 3Y5\, Niagara Falls\, Ontario\, Canada
END:VEVENT
BEGIN:VEVENT
DTSTART;TZID=America/Toronto:20260924T210000
DTEND;TZID=America/Toronto:20260924T223000
DTSTAMP:20260425T191654
CREATED:20260218T212650Z
LAST-MODIFIED:20260218T212650Z
UID:10008417-1790283600-1790289000@www.niagarafallshotels.com
SUMMARY:Three Dog Night
DESCRIPTION:Legendary band\, THREE DOG NIGHT\, now in its 6th decade\, claims some of the most astonishing statistics in popular music. In the years 1969 through 1974\, no other group achieved more top 10 hits\, moved more records\, or sold more concert tickets than THREE DOG NIGHT. \nBoasting chart and sales records that remain virtually unmatched in popular music\, THREE DOG NIGHT holds a Billboard Magazine record for releasing 21 consecutive Top 40 hits\, including 3 #1 singles “Mama Told Me (Not to Come)”\, “Joy to the World”\, and “Liar; the chart success drove 7 Platinum-selling singles and 12 straight RIAA Certified Gold LPs. The hits appeared on best-selling charts in all genres.  Its records continue to sell around the world\, reaching beyond the borders of the U.S. into Japan\, Canada\, Holland\, England\, Germany\, Spain and elsewhere. Tens of millions of THREE DOG NIGHT records have been sold through the years.
URL:https://www.niagarafallshotels.com/niagara-falls-events/three-dog-night-2/
LOCATION:Fallsview Casino – OLG Stage At Fallsview Casino – 6366 Stanley Avenue Niagara Falls L2G 3Y5\, Niagara Falls\, Ontario\, Canada
END:VEVENT
BEGIN:VEVENT
DTSTART;TZID=America/Toronto:20260925T200000
DTEND;TZID=America/Toronto:20260925T213000
DTSTAMP:20260425T191654
CREATED:20260424T151129Z
LAST-MODIFIED:20260424T151129Z
UID:10008498-1790366400-1790371800@www.niagarafallshotels.com
SUMMARY:This Is Important Podcast
DESCRIPTION:Adam Devine\, Anders Holm\, and Blake Anderson (co-creators and stars of Workaholics) dive deep into serious discussions about some of the most important topics facing our society today such as grown men fighting children\, diarrhea\, boners\, naked grandmas\, and so much more. Listeners get to be a fly on the wall for the effortlessly entertaining\, genuinely hilarious conversations these guys have been having for years.
URL:https://www.niagarafallshotels.com/niagara-falls-events/this-is-important-podcast/
LOCATION:Fallsview Casino – OLG Stage At Fallsview Casino – 6366 Stanley Avenue Niagara Falls L2G 3Y5\, Niagara Falls\, Ontario\, Canada
END:VEVENT
BEGIN:VEVENT
DTSTART;TZID=America/Toronto:20261003T200000
DTEND;TZID=America/Toronto:20261003T213000
DTSTAMP:20260425T191654
CREATED:20260218T212741Z
LAST-MODIFIED:20260218T212741Z
UID:10008418-1791057600-1791063000@www.niagarafallshotels.com
SUMMARY:UB40
DESCRIPTION:UB40 stands as one of the most iconic and enduring reggae bands of all time. Formed in Birmingham\, England\, the band emerged in the late 1970’s with a mission to bring reggae music to the mainstream while staying true to its roots. Their name\, taken from a UK employment benefit form\, reflects the band’s early commitment to social awareness and storytelling. \nWith a career spanning more than four decades\, UB40 has sold over 70 million records worldwide and achieved extraordinary success with timeless hits like “Red Red Wine”\, “Can’t Help Falling in Love”\, “Kingston Town” and “Here I Am (Come and Take Me)”.
URL:https://www.niagarafallshotels.com/niagara-falls-events/ub40/
LOCATION:Fallsview Casino – OLG Stage At Fallsview Casino – 6366 Stanley Avenue Niagara Falls L2G 3Y5\, Niagara Falls\, Ontario\, Canada
END:VEVENT
BEGIN:VEVENT
DTSTART;TZID=America/Toronto:20261008T200000
DTEND;TZID=America/Toronto:20261008T213000
DTSTAMP:20260425T191654
CREATED:20260424T151236Z
LAST-MODIFIED:20260424T151236Z
UID:10008499-1791489600-1791495000@www.niagarafallshotels.com
SUMMARY:TWISTED SISTER Featuring Sebastian Bach on Lead Vocals
DESCRIPTION:Twister Sister\, featuring Sebastian Bach on lead vocals\, delivers a full throttle rock experience that brings the spirit of 80s metal roaring back to life. Known for their rebellious energy and larger than life sound\, Twister Sister made their mark with anthems like “We’re Not Gonna Take It” and “I Wanna Rock”-songs that still ignite crowds around the world. \nJoining the charge is powerhouse vocalist Sebastian Bach\, whose electrifying stage presence and soaring vocals add a new level of intensity to these iconic hits. Best known as the original voice of Skid Row\, Bach brings his own legacy of hard rock firepower to a setlist packed with attitude\, nostalgia\, and pure adrenaline. \nIt’s bold\, loud and unapologetic—classic metal brought to live in a can’t miss live experience.
URL:https://www.niagarafallshotels.com/niagara-falls-events/twisted-sister-featuring-sebastian-bach-on-lead-vocals/
LOCATION:Fallsview Casino – OLG Stage At Fallsview Casino – 6366 Stanley Avenue Niagara Falls L2G 3Y5\, Niagara Falls\, Ontario\, Canada
END:VEVENT
BEGIN:VEVENT
DTSTART;TZID=America/Toronto:20261114T200000
DTEND;TZID=America/Toronto:20261114T213000
DTSTAMP:20260425T191654
CREATED:20260424T151341Z
LAST-MODIFIED:20260424T151341Z
UID:10008500-1794686400-1794691800@www.niagarafallshotels.com
SUMMARY:Tyler Henry - The Hollywood Medium - An Evening of Hope and Healing
DESCRIPTION:Tyler Henry\, star of the recent live NETFLIX series Live from the Other Side and Life After Death with Tyler Henry\, continues to be the most sought-after clairvoyant medium both in the United States and around the world. His first television show\, E! Entertainment’s mega-hit Hollywood Medium with Tyler Henry\, showcased his unique gift of communicating with the other side and his ability to offer comfort\, healing and hope to his clients and viewers. Tyler’s goal has always been to aid in the grief process and provide validation and healing through his one-on-one private readings\, his TV shows\, his books\, his live shows\, and his virtual reading app.
URL:https://www.niagarafallshotels.com/niagara-falls-events/tyler-henry-the-hollywood-medium-an-evening-of-hope-and-healing/
LOCATION:Fallsview Casino – OLG Stage At Fallsview Casino – 6366 Stanley Avenue Niagara Falls L2G 3Y5\, Niagara Falls\, Ontario\, Canada
END:VEVENT
BEGIN:VEVENT
DTSTART;TZID=America/Toronto:20261121T200000
DTEND;TZID=America/Toronto:20261121T213000
DTSTAMP:20260425T191654
CREATED:20260424T151448Z
LAST-MODIFIED:20260424T151448Z
UID:10008501-1795291200-1795296600@www.niagarafallshotels.com
SUMMARY:Lowest of the Low With Very Special Guest Junkhouse
DESCRIPTION:Lowest of the Low \nCanadian indie rock legends Lowest of the low bring over 30 years of anthemic\, high-energy sound to the stage. Inducted into the Canadian Indie Rock Hall of Fame\, they rose to fame with their groundbreaking album Shakespeare My Butt – one of the best-selling independent releases in Canadian history. \nIn a bold effort to assert themselves as a balm for these uncertain times\, Toronto’s LOWEST OF THE LOW have decided to do the (almost) unthinkable: give the people what they want. To observe the 35th anniversary of their infamous debut SHAKESPEARE MY BUTT…the band will be performing the album in its entirety at select venues in Ontario over the course of 2026. \nJunkhouse \nJunkhouse is a Canadian rock band who’s gritty\, blues-infused sound helped define an alternative edge within the country’s roots rock scene of the 1990s. Formed in Hamilton\, Ontario\, the group was led by singer-songwriter Tom Wilson. Drawing on working-class sensibilities and a deep affection for American blues and Southern rock\, Junkhouse crafted songs that felt both raw and deliberate—equal parts barroom swagger and poetic reflection The band broke through with their 1993 debut album Strays\, which produced the hit single “Out of My Head”. The track’s driving rhythm and hook-laden chorus earned heavy radio rotation in Canada and established Junkhouse as a compelling new voice in alternative rock.
URL:https://www.niagarafallshotels.com/niagara-falls-events/lowest-of-the-low-with-very-special-guest-junkhouse/
LOCATION:Fallsview Casino – OLG Stage At Fallsview Casino – 6366 Stanley Avenue Niagara Falls L2G 3Y5\, Niagara Falls\, Ontario\, Canada
END:VEVENT
BEGIN:VEVENT
DTSTART;TZID=America/Toronto:20261204T200000
DTEND;TZID=America/Toronto:20261204T213000
DTSTAMP:20260425T191654
CREATED:20260424T151544Z
LAST-MODIFIED:20260424T151544Z
UID:10008502-1796414400-1796419800@www.niagarafallshotels.com
SUMMARY:Jim Gaffigan - Everything is Wonderful!
DESCRIPTION:Jim Gaffigan is an eight-time Grammy nominated comedian\, actor\, writer\, producer\, and one of the world’s top touring stand-up performers. Known for his clean\, observational humour\, he has released multiple hit specials and best-selling albums\, including Comedy Monster and Dark Pale. \nA three-time Emmy winner\, Gaffigan\, has appeared in numerous films and series\, including Unfrosted\, Linoleum\, and Full Circle. He has also performed at major events like the Al Smith Memorial Dinner and festivals worldwide.  In 2015\, Gaffigan had the great honour of performing for Pope Francis and over 1 million festival attendees at the Festival of Families in Philadelphia. \nOn stage and screen\, his relatable humour and distinctive voice have made him a global favourite. He is currently touring his Everything Is Wonderful! stand-up show. He and his wife currently live in Manhattan with their five loud and expensive children.
URL:https://www.niagarafallshotels.com/niagara-falls-events/jim-gaffigan-everything-is-wonderful/
LOCATION:Fallsview Casino – OLG Stage At Fallsview Casino – 6366 Stanley Avenue Niagara Falls L2G 3Y5\, Niagara Falls\, Ontario\, Canada
END:VEVENT
END:VCALENDAR