BEGIN:VCALENDAR
VERSION:2.0
PRODID:-//Niagara Falls Hotels - ECPv6.15.20//NONSGML v1.0//EN
CALSCALE:GREGORIAN
METHOD:PUBLISH
X-ORIGINAL-URL:https://www.niagarafallshotels.com
X-WR-CALDESC:Events for Niagara Falls Hotels
REFRESH-INTERVAL;VALUE=DURATION:PT1H
X-Robots-Tag:noindex
X-PUBLISHED-TTL:PT1H
BEGIN:VTIMEZONE
TZID:America/Toronto
BEGIN:DAYLIGHT
TZOFFSETFROM:-0500
TZOFFSETTO:-0400
TZNAME:EDT
DTSTART:20240310T070000
END:DAYLIGHT
BEGIN:STANDARD
TZOFFSETFROM:-0400
TZOFFSETTO:-0500
TZNAME:EST
DTSTART:20241103T060000
END:STANDARD
BEGIN:DAYLIGHT
TZOFFSETFROM:-0500
TZOFFSETTO:-0400
TZNAME:EDT
DTSTART:20250309T070000
END:DAYLIGHT
BEGIN:STANDARD
TZOFFSETFROM:-0400
TZOFFSETTO:-0500
TZNAME:EST
DTSTART:20251102T060000
END:STANDARD
BEGIN:DAYLIGHT
TZOFFSETFROM:-0500
TZOFFSETTO:-0400
TZNAME:EDT
DTSTART:20260308T070000
END:DAYLIGHT
BEGIN:STANDARD
TZOFFSETFROM:-0400
TZOFFSETTO:-0500
TZNAME:EST
DTSTART:20261101T060000
END:STANDARD
BEGIN:DAYLIGHT
TZOFFSETFROM:-0500
TZOFFSETTO:-0400
TZNAME:EDT
DTSTART:20270314T070000
END:DAYLIGHT
BEGIN:STANDARD
TZOFFSETFROM:-0400
TZOFFSETTO:-0500
TZNAME:EST
DTSTART:20271107T060000
END:STANDARD
END:VTIMEZONE
BEGIN:VEVENT
DTSTART;TZID=America/Toronto:20260115T193000
DTEND;TZID=America/Toronto:20260115T210000
DTSTAMP:20260425T194135
CREATED:20251104T172346Z
LAST-MODIFIED:20251104T172346Z
UID:10007819-1768505400-1768510800@www.niagarafallshotels.com
SUMMARY:The Trews\, The Watchmen and Skydiggers
DESCRIPTION:The Trews \nThe Trews\, one of Canada’s most electrifying rock bands\, bring the energy every time they hit the stage! With chart-topping hits like “Not Ready to Go” and “Highway of Heroes”\, this multi-platinum Canadian band lights up the stage with their high-octane sound and powerhouse performance. Don’t miss your chance to experience one of Canada’s most captivating live rock acts! \nThe Watchmen \nThe Watchmen are one of Canada’s most enduring rock bands\, known for their powerful live shows and hits like “Stereo” and “Any Day Now”. With their signature blend of heartfelt lyrics and driving guitars\, the band has built a loyal fan base and a reputation for delivering unforgettable performances. Experience the music\, the memories and the magic-live on stage! \nSkydiggers \nSkydiggers have been a cornerstone for Canadian roots rock for over three decades\, blending storytelling songwriting with soaring harmonies and unforgettable melodies. Known for classics like “I Will Give You Everything”\, their timeless sound and passionate live performances continue to bring audiences back for more. Don’t miss a night of music you’ll never forget!
URL:https://www.niagarafallshotels.com/niagara-falls-events/the-trews-the-watchmen-and-skydiggers/
LOCATION:Fallsview Casino – OLG Stage At Fallsview Casino – 6366 Stanley Avenue Niagara Falls L2G 3Y5\, Niagara Falls\, Ontario\, Canada
END:VEVENT
BEGIN:VEVENT
DTSTART;TZID=America/Toronto:20260103T150000
DTEND;TZID=America/Toronto:20260103T160000
DTSTAMP:20260425T194135
CREATED:20251104T170054Z
LAST-MODIFIED:20251104T170054Z
UID:10007808-1767452400-1767456000@www.niagarafallshotels.com
SUMMARY:Hyprov: Improv Under Hypnosis with Colin Mochrie and Asad Mecci
DESCRIPTION:Hilarious. Unpredictable. Unlike anything you’ve ever seen. From the brilliant mind of Colin Mochrie (Whose Line Is It Anyway?) and world-renowned hypnotist Asad Mecci\, HYPROV is the smash-hit comedy show that blends hypnosis and improv for a one-of-a-kind night out. Here’s how it works: 20 audience volunteers rush the stage. (Participation is voluntary) Asad Mecci hypnotizes them into a state of total uninhibited creativity. The funniest\, wildest “Hyprovisors” then join a world-class comedian to perform an improv show where anything — and everything — can happen. The result? A comedy experience so raw\, unpredictable\, and laugh-out-loud funny that no two shows are ever the same. With improvised music woven throughout\, HYPROV is part mind-blowing experiment\, part outrageous improv\, and 100% entertainment. Whether you’re a fan of Whose Line\, obsessed with live comedy\, or just looking for the ultimate “you had to be there” night out — HYPROV delivers. \nJanuary 2 – 9PM \nJanuary 3 – 3PM
URL:https://www.niagarafallshotels.com/niagara-falls-events/hyprov-improv-under-hypnosis-with-colin-mochrie-and-asad-mecci/2026-01-03/
LOCATION:Fallsview Casino – OLG Stage At Fallsview Casino – 6366 Stanley Avenue Niagara Falls L2G 3Y5\, Niagara Falls\, Ontario\, Canada
END:VEVENT
BEGIN:VEVENT
DTSTART;TZID=America/Toronto:20260102T210000
DTEND;TZID=America/Toronto:20260102T220000
DTSTAMP:20260425T194135
CREATED:20251104T170054Z
LAST-MODIFIED:20251104T170054Z
UID:10007807-1767387600-1767391200@www.niagarafallshotels.com
SUMMARY:Hyprov: Improv Under Hypnosis with Colin Mochrie and Asad Mecci
DESCRIPTION:Hilarious. Unpredictable. Unlike anything you’ve ever seen. From the brilliant mind of Colin Mochrie (Whose Line Is It Anyway?) and world-renowned hypnotist Asad Mecci\, HYPROV is the smash-hit comedy show that blends hypnosis and improv for a one-of-a-kind night out. Here’s how it works: 20 audience volunteers rush the stage. (Participation is voluntary) Asad Mecci hypnotizes them into a state of total uninhibited creativity. The funniest\, wildest “Hyprovisors” then join a world-class comedian to perform an improv show where anything — and everything — can happen. The result? A comedy experience so raw\, unpredictable\, and laugh-out-loud funny that no two shows are ever the same. With improvised music woven throughout\, HYPROV is part mind-blowing experiment\, part outrageous improv\, and 100% entertainment. Whether you’re a fan of Whose Line\, obsessed with live comedy\, or just looking for the ultimate “you had to be there” night out — HYPROV delivers. \nJanuary 2 – 9PM \nJanuary 3 – 3PM
URL:https://www.niagarafallshotels.com/niagara-falls-events/hyprov-improv-under-hypnosis-with-colin-mochrie-and-asad-mecci/2026-01-02/
LOCATION:Fallsview Casino – OLG Stage At Fallsview Casino – 6366 Stanley Avenue Niagara Falls L2G 3Y5\, Niagara Falls\, Ontario\, Canada
END:VEVENT
BEGIN:VEVENT
DTSTART;TZID=America/Toronto:20251228T190000
DTEND;TZID=America/Toronto:20251228T203000
DTSTAMP:20260425T194135
CREATED:20251104T165924Z
LAST-MODIFIED:20251104T165924Z
UID:10007806-1766948400-1766953800@www.niagarafallshotels.com
SUMMARY:Blue Rodeo
DESCRIPTION:When fans lined Toronto’s Queen Street to get into clubs where Blue Rodeo was performing in the mid-1980s\, the band felt they had achieved success. And\, in fact\, they had. But that success has grown exponentially over the ensuing four decades\, and by staying true to themselves\, Blue Rodeo has built an enduring love affair with Canadians. \nNow celebrating their 40th anniversary\, Blue Rodeo has proven to be one of Canada’s most enduring and important bands. They have received 31 JUNO Award nominations (winning 12) and 17 CCMA Awards (winning two).  Blue Rodeo has sold more than four million albums\, played thousands of shows\, been inducted into both the Canadian Music Hall of Fame and the Canadian Songwriters Hall of Fame\, received a star on Canada’s Walk of Fame\, been named to the Order of Canada and been honoured with the Governor General’s Performing Arts Award.
URL:https://www.niagarafallshotels.com/niagara-falls-events/blue-rodeo/
LOCATION:Fallsview Casino – OLG Stage At Fallsview Casino – 6366 Stanley Avenue Niagara Falls L2G 3Y5\, Niagara Falls\, Ontario\, Canada
END:VEVENT
BEGIN:VEVENT
DTSTART;TZID=America/Toronto:20251220T200000
DTEND;TZID=America/Toronto:20251220T213000
DTSTAMP:20260425T194135
CREATED:20251104T165832Z
LAST-MODIFIED:20251211T185210Z
UID:10007805-1766260800-1766266200@www.niagarafallshotels.com
SUMMARY:Matt Dusk - A Very Sinatra Christmas
DESCRIPTION:Very Sinatra Christmas is a dazzling evening of music and memories\, tailor-made for fans of Sinatra\, Christmas\, and live entertainment at its very best. \nBacked by a powerhouse big band\, Dusk will transport audiences to the golden age of swing\, blending timeless holiday classics with the unforgettable style of the one-and-only Frank Sinatra. From “Let It Snow” to “The Christmas Song\,” A Very Sinatra Christmas is brimming with nostalgia\, glamour\, and holiday spirit—perfect for fans of classic music and unforgettable live entertainment. \n“There’s nothing like the magic of the holidays—and no better way to celebrate than with the music of Sinatra and a big band\,” says Dusk. “Expect a swinging night of Christmas favourites\, timeless charm\, and maybe even a little snowfall on stage!”
URL:https://www.niagarafallshotels.com/niagara-falls-events/matt-dusk-a-very-sinatra-christmas/
LOCATION:Fallsview Casino – OLG Stage At Fallsview Casino – 6366 Stanley Avenue Niagara Falls L2G 3Y5\, Niagara Falls\, Ontario\, Canada
END:VEVENT
BEGIN:VEVENT
DTSTART;TZID=America/Toronto:20251219T200000
DTEND;TZID=America/Toronto:20251219T213000
DTSTAMP:20260425T194135
CREATED:20251104T165741Z
LAST-MODIFIED:20251104T165741Z
UID:10007804-1766174400-1766179800@www.niagarafallshotels.com
SUMMARY:Down with Webster
DESCRIPTION:From their first performance at a junior high talent show\, Down With Webster created their own style of genre-bending sounds and have blown away audiences ever since. Their songs have charted at Top40 Radio\, sold millions of singles\, and amassed hundreds of millions of streams; while providing electrifying performances at the MMVA’s\, Junos\, and festivals across the country. The band’s tireless pursuit of creating the greatest party on stage has won them a rabid fan base coast to coast. To celebrate the 15th anniversary of their breakthrough album “Time To Win vol. 1” the band are reuniting for a limited number of shows in 2025.
URL:https://www.niagarafallshotels.com/niagara-falls-events/down-with-webster/
LOCATION:Fallsview Casino – OLG Stage At Fallsview Casino – 6366 Stanley Avenue Niagara Falls L2G 3Y5\, Niagara Falls\, Ontario\, Canada
END:VEVENT
BEGIN:VEVENT
DTSTART;TZID=America/Toronto:20251218T200000
DTEND;TZID=America/Toronto:20251218T213000
DTSTAMP:20260425T194135
CREATED:20251104T164429Z
LAST-MODIFIED:20251104T164429Z
UID:10007794-1766088000-1766093400@www.niagarafallshotels.com
SUMMARY:Arkells - Sleigh The Night
DESCRIPTION:A holiday tradition is born! Arkells debut a special Christmas show – for one night only: Arkells Sleigh The Night. Armed with their greatest hits\, deepest cuts\, favourite covers and\, for the first time live\, their beloved original Christmas songs. Don’t miss their legendary party set! Show is all ages! \nWhether they’re rocking stadiums\, making a beeline for the discotheque\, or gathering around the campfire\, the implicit message of Arkells is always the same: everyone is welcome here. Since the beginning\, Arkells have never wavered in their mission to be the house band that soundtracks the greatest nights of your life and provides emotional support in your darkest hours. And that communal spirit is reflected in an ever-evolving sound that hits all the perennial pleasure points—fusing the anthemic power of alt-rock\, the pulpit-shaking passion of vintage soul\, the off-the-cuff intimacy of singer-songwriter music\, the urbane edge of 21st-century indie\, and the futurist aesthetics of modern R&B. \nThanks to that eclectic ethos\, Arkells has continued to evolve\, while making everyone feel right at home. As one of the most heavily rotated acts on radio\, and all-time record holders of the JUNO Award for “Group of the Year\, Arkells have extended their reach beyond borders by infiltrating all corners of pop culture; from global sports telecasts and top-tier video games to the stages of Coachella and Bonnaroo.
URL:https://www.niagarafallshotels.com/niagara-falls-events/arkells-sleigh-the-night/
LOCATION:Fallsview Casino – OLG Stage At Fallsview Casino – 6366 Stanley Avenue Niagara Falls L2G 3Y5\, Niagara Falls\, Ontario\, Canada
END:VEVENT
BEGIN:VEVENT
DTSTART;TZID=America/Toronto:20251203T200000
DTEND;TZID=America/Toronto:20251203T213000
DTSTAMP:20260425T194135
CREATED:20251104T165648Z
LAST-MODIFIED:20251104T165648Z
UID:10007803-1764792000-1764797400@www.niagarafallshotels.com
SUMMARY:Christmas with Johnny Reid
DESCRIPTION:Over an illustrious career spanning more than two decades\, JUNO Award winning singer-songwriter Johnny Reid has captured the hearts of fans and audiences around the world. The critically acclaimed singer is widely known for his lyrical honesty and musical ability\, as demonstrated by an extensive catalogue of hit songs\, album sales totaling over 1.5 million units in Canada\, countless awards and multiple sold out national arena tours.  Catch Johnny Reid live on stage in a joyful celebration of holiday spirit\, sharing personal favourites\, cherished classics and inspiring stories to usher in the holiday season.
URL:https://www.niagarafallshotels.com/niagara-falls-events/christmas-with-johnny-reid/
LOCATION:Fallsview Casino – OLG Stage At Fallsview Casino – 6366 Stanley Avenue Niagara Falls L2G 3Y5\, Niagara Falls\, Ontario\, Canada
END:VEVENT
BEGIN:VEVENT
DTSTART;TZID=America/Toronto:20251126T200000
DTEND;TZID=America/Toronto:20251126T213000
DTSTAMP:20260425T194135
CREATED:20251104T162853Z
LAST-MODIFIED:20251111T145811Z
UID:10007764-1764187200-1764192600@www.niagarafallshotels.com
SUMMARY:Sarah Brightman - A Winter Symphony
DESCRIPTION:The world’s biggest-selling soprano and legendary GRAMMY® Award-nominated artist Sarah Brightman returns with her new Christmas spectacle “A Winter Symphony” tour! \nAccompanied by orchestra\, choir\, and special guests\, this enchanting holiday show will feature Sarah performing many of her holiday classics and greatest hits. “A Winter Symphony” is an unforgettable Christmas experience during the most wonderful time of the year!
URL:https://www.niagarafallshotels.com/niagara-falls-events/sarah-brightman-a-winter-symphony/
LOCATION:Fallsview Casino – OLG Stage At Fallsview Casino – 6366 Stanley Avenue Niagara Falls L2G 3Y5\, Niagara Falls\, Ontario\, Canada
END:VEVENT
BEGIN:VEVENT
DTSTART;TZID=America/Toronto:20251123T193000
DTEND;TZID=America/Toronto:20251123T210000
DTSTAMP:20260425T194135
CREATED:20251104T165533Z
LAST-MODIFIED:20251104T165533Z
UID:10007802-1763926200-1763931600@www.niagarafallshotels.com
SUMMARY:Raymond Lam
DESCRIPTION:Raymond Lam is one of Hong Kong’s most recognized stars. Best known for his portrayal as the ruthless Qin Shi Huang 秦始皇 in the historical/science fiction drama “尋秦記 A Step into the Past”\,  he launched his music career in 2007 with his debut album 愛在記憶中找. A year later his second album\, Your Love\, received a double IFPI Platinum Award\, featuring the super hit song 愛在記憶中找你\, 如果時間來到\, Let’s Get Wet\, 熱能放送  . With a career spanning tv\, film and music\, Raymond has become one of Hong Kong’s most versatile and beloved entertainers.
URL:https://www.niagarafallshotels.com/niagara-falls-events/raymond-lam/
LOCATION:Fallsview Casino – OLG Stage At Fallsview Casino – 6366 Stanley Avenue Niagara Falls L2G 3Y5\, Niagara Falls\, Ontario\, Canada
END:VEVENT
BEGIN:VEVENT
DTSTART;TZID=America/Toronto:20251122T190000
DTEND;TZID=America/Toronto:20251122T210000
DTSTAMP:20260425T194135
CREATED:20251104T165432Z
LAST-MODIFIED:20251104T165432Z
UID:10007801-1763838000-1763845200@www.niagarafallshotels.com
SUMMARY:Crash Test Dummies\, The Northern Pikes & Lisa Loeb
DESCRIPTION:Crash Test Dummies \nWith one of the most recognizable voices in Canadian music history\, alternative rock band Crash Test Dummies are a three-time Grammy nominated and JUNO award-winning group\, who soared to the top of the worldwide charts in the early 1990s with hits “Mmm\, Mmm\, Mmm\, Mmm” and “Superman’s Song.” All their releases keep the same folk-hued\, alternative spirit of their early sound\, centering around the distinct baritone of frontman Brad Roberts and Ellen Reid’s folk-rock fusion. \nNorthern Pikes \nWith a career spanning over three decades\, The Northern Pikes have become one of Canada’s most enduring rock bands. Known for their unmistakable sound and timeless hits like “She Ain’t Pretty” “Teenland” and “Girl with a Problem”\, the Pikes blend sharp lyrics\, soaring harmonies and infectious melodies that defined a generation. Hailing from Saskatchewan\, this multi-platinum group continues to captivate audiences with their mix of rock energy and heartfelt songwriting. Whether on stage or on record\, The Northern Pikes deliver a show filled with nostalgia\, musicianship and pure Canadian rock spirit. \nLisa Loeb \nMany of us recognize Grammy® winner\, singer/songwriter\, Lisa Loeb from the platinum-selling Number 1 hit song “Stay (I Missed You)” from the film Reality Bites. Since then\, she has enjoyed a successful career in music\, film\, television\, voice-over work and children’s recordings. In addition to raising two children in LA\, she stays busy working on her growing eyewear line\, her music for grown-ups as well as books and CDs for kids and families. Her most recent collection of songs is called A Simple Trick to Happiness.
URL:https://www.niagarafallshotels.com/niagara-falls-events/crash-test-dummies-the-northern-pikes-lisa-loeb/
LOCATION:Fallsview Casino – OLG Stage At Fallsview Casino – 6366 Stanley Avenue Niagara Falls L2G 3Y5\, Niagara Falls\, Ontario\, Canada
END:VEVENT
BEGIN:VEVENT
DTSTART;TZID=America/Toronto:20251121T200000
DTEND;TZID=America/Toronto:20251121T213000
DTSTAMP:20260425T194135
CREATED:20251104T165324Z
LAST-MODIFIED:20251104T165324Z
UID:10007800-1763755200-1763760600@www.niagarafallshotels.com
SUMMARY:Matthew Good and His Band with I Mother Earth
DESCRIPTION:Matthew Good And His Band \nA multi-platinum selling Canadian recording artist\, Matthew Good is known for his distinctive voice\, guitar-driven melodies\, and introspective lyrics. He first gained prominence as the frontman for the Matthew Good Band\, one of Canada’s most successful alternative rock bands of the 90s and early 2000s. He has also had a successful solo career\, with eight top 10 radio singles. \nI Mother Earth \nThis Canadian alternative rock band is known for its dynamic live shows and powerful sound\, blending progressive rock\, funk\, and psychedelia. They are best known for hits like “One More Astronaut\,” “Summertime in the Void\,” and “Levitate”. The tour will feature the reunited lineup with original vocalist Edwin.
URL:https://www.niagarafallshotels.com/niagara-falls-events/matthew-good-and-his-band-with-i-mother-earth/
LOCATION:Fallsview Casino – OLG Stage At Fallsview Casino – 6366 Stanley Avenue Niagara Falls L2G 3Y5\, Niagara Falls\, Ontario\, Canada
END:VEVENT
BEGIN:VEVENT
DTSTART;TZID=America/Toronto:20251116T200000
DTEND;TZID=America/Toronto:20251116T213000
DTSTAMP:20260425T194135
CREATED:20251104T165020Z
LAST-MODIFIED:20251104T165020Z
UID:10007798-1763323200-1763328600@www.niagarafallshotels.com
SUMMARY:Patti Labelle
DESCRIPTION:Beautiful\, simply does not describe the incomparable force known to the world as Patti LaBelle. Through the years\, the songbird’s name has become synonymous with grace\, style\, and class. Her effortless ability to belt out classic rhythm and blues renditions\, pop standards and spiritual sonnets has created the unique platform of versatility that the artist is known and revered for. \nFor more than 60 years\, Patti’s resplendent voice has left an indelible mark all over the world. This Philadelphia born entertainer captured her first hit in 1962\, as lead singer of The Bluebelles and went on to receive worldwide acclaim with the trailblazing and genre bending trio\, Labelle. A solo artist since the 1970s\, Patti has created timeless songs that have helped cement her place as a music icon and garnered her numerous honors\, including GRAMMY Awards\, American Music Awards\, NAACP Image Awards\, New York Times bestselling books and more. \nFrom music\, to film and television\, to books\, to her successful food and lifestyle brand\, Patti’s Good Life\, living legend Patti LaBelle has shown her diversity and continued to break down barriers as an artist\, entertainer\, actress\, author and entrepreneur.
URL:https://www.niagarafallshotels.com/niagara-falls-events/patti-labelle/
LOCATION:Fallsview Casino – OLG Stage At Fallsview Casino – 6366 Stanley Avenue Niagara Falls L2G 3Y5\, Niagara Falls\, Ontario\, Canada
END:VEVENT
BEGIN:VEVENT
DTSTART;TZID=America/Toronto:20251115T200000
DTEND;TZID=America/Toronto:20251115T213000
DTSTAMP:20260425T194135
CREATED:20251104T164908Z
LAST-MODIFIED:20251104T164908Z
UID:10007797-1763236800-1763242200@www.niagarafallshotels.com
SUMMARY:Dean Brody
DESCRIPTION:Multi-platinum\, iconic Canadian artist Dean Brody is celebrating the biggest years of his career. No country artist has owned the Canadian “Live” stage more than Dean in recent years with three national arena tours (2 breaking national ticket sale records)\, an acoustic national tour and as the only Canadian country artist to hold a 7-year residency at Toronto’s Budweiser Stage. \nA passionate storyteller and unmatched lyricist\, Dean has risen and continues to remain at the top of the Canadian country landscape with an impressive 34 Top-10 singles (including 8 #1’s)\, 18 CCMA Awards\, 2 JUNOs\, more than 425+ million global streams and numerous gold and platinum certified singles (including 1 triple platinum and 3 double platinum). Only Shania Twain has more Canadian streams than Dean when looking at Canadian country artists “lifetime” results.
URL:https://www.niagarafallshotels.com/niagara-falls-events/dean-brody/
LOCATION:Fallsview Casino – OLG Stage At Fallsview Casino – 6366 Stanley Avenue Niagara Falls L2G 3Y5\, Niagara Falls\, Ontario\, Canada
END:VEVENT
BEGIN:VEVENT
DTSTART;TZID=America/Toronto:20251114T200000
DTEND;TZID=America/Toronto:20251114T213000
DTSTAMP:20260425T194135
CREATED:20250414T211448Z
LAST-MODIFIED:20250414T211448Z
UID:10007633-1763150400-1763155800@www.niagarafallshotels.com
SUMMARY:Mark Normand - Ya Don't Say
DESCRIPTION:Dubbed by Jerry Seinfeld as the “best young up and coming comic\,” Mark Normand is quickly becoming one of the most talked about touring comedians on the scene.  Normand’s NEW one-hour Netflix special\, SOUP TO NUTS\, has been a staple in the streamers’ Top Ten since its July 25th premiere.  This follows Normand’s self-released special\, 2020’s Out to Lunch which amassed over 12 million views on YouTube.  He also starred on Netflix’s Season 3 of The Stand Ups. \nAn extremely prolific stand-up\, he previously had a one-hour and a half hour Comedy Central special and has made an unparalleled seven appearances on Conan\, four appearances on The Tonight Show with Jimmy Fallon\, and has also appeared on The Late Show with Stephen Colbert. Mark IS A FREQUENT GUEST ON The Joe Rogan Experience\, AND HOSTS his own podcasts Tuesdays with Stories and We Might Be Drunk.
URL:https://www.niagarafallshotels.com/niagara-falls-events/mark-normand-ya-dont-say/
LOCATION:Fallsview Casino – OLG Stage At Fallsview Casino – 6366 Stanley Avenue Niagara Falls L2G 3Y5\, Niagara Falls\, Ontario\, Canada
END:VEVENT
BEGIN:VEVENT
DTSTART;TZID=America/Toronto:20251113T200000
DTEND;TZID=America/Toronto:20251113T213000
DTSTAMP:20260425T194135
CREATED:20250414T211357Z
LAST-MODIFIED:20250414T211357Z
UID:10007632-1763064000-1763069400@www.niagarafallshotels.com
SUMMARY:John Legend - Get Lifted - 20th Anniversary Tour
DESCRIPTION:Backed by his full band\, Legend’s “Get Lifted 20th Anniversary World Tour” will showcase a set list celebrating the entirety of Get Lifted\, which garnered eight nominations and won three Grammy Awards at the 48th Annual Grammy Awards\, including Best Male R&B Vocal Performance for “Ordinary People\,” Best R&B Album for Get Lifted\, and Best New Artist. Each night\, Legend will deliver a mix of deep cuts\, fan favorites\, and fresh renditions of the album’s beloved tracks like the Grammy-winning “Ordinary People” (his breakout hit that reached the Billboard Top 40 and the UK R&B Singles chart)\, “Used to Love U\,” “Number One\,” and “So High.” In addition to honouring Get Lifted\, the live show will feature Legend’s other career-spanning hits\, showcasing the musical depth and storytelling that have been hallmarks of his artistry for the past two decades.
URL:https://www.niagarafallshotels.com/niagara-falls-events/john-legend-get-lifted-20th-anniversary-tour/
LOCATION:Fallsview Casino – OLG Stage At Fallsview Casino – 6366 Stanley Avenue Niagara Falls L2G 3Y5\, Niagara Falls\, Ontario\, Canada
END:VEVENT
BEGIN:VEVENT
DTSTART;TZID=America/Toronto:20251104T080000
DTEND;TZID=America/Toronto:20251104T170000
DTSTAMP:20260425T194135
CREATED:20251104T174458Z
LAST-MODIFIED:20251104T174458Z
UID:10007838-1762243200-1762275600@www.niagarafallshotels.com
SUMMARY:Kenny Wayne Shepherd Band - Ledbetter Heights 30th Anniversary Tour
DESCRIPTION:Kenny Wayne Sheppard is a blues rock guitar virtuoso whose explosive sound has made him one of the most dynamic performers of his generation. With multiple Grammy nominations\, five #1 blues albums\, and the smash hit “Blue on Black”\, Shepherd blends raw emotion with electrifying guitar work. Celebrating the Ledbetter Heights 30th Anniversary Tour\, Kenny Wayne Shepherd continues to deliver high-energy performances that keep the spirit of the blues alive while forging ahead with his own modern twist on a classic sound he has embodied since his teens.
URL:https://www.niagarafallshotels.com/niagara-falls-events/kenny-wayne-shepherd-band-ledbetter-heights-30th-anniversary-tour/
LOCATION:Fallsview Casino – OLG Stage At Fallsview Casino – 6366 Stanley Avenue Niagara Falls L2G 3Y5\, Niagara Falls\, Ontario\, Canada
END:VEVENT
BEGIN:VEVENT
DTSTART;TZID=America/Toronto:20251030T200000
DTEND;TZID=America/Toronto:20251030T213000
DTSTAMP:20260425T194135
CREATED:20250414T211259Z
LAST-MODIFIED:20250414T211259Z
UID:10007631-1761854400-1761859800@www.niagarafallshotels.com
SUMMARY:America
DESCRIPTION:The iconic multi-platinum-selling group AMERICA will celebrate their 55th anniversary with a series of tour dates in 2025. Known for their timeless magic and powerful performances\, the Grammy Award-winning perennial classic-rock favorite will draw on their deep catalog of hits including signature song “A Horse With No Name\,” a Number One hit on Billboard’s Hot 100 in 1972. \nTheir best-known tunes\, which also include “I Need You\,” “Ventura Highway\,” “Don’t Cross The River\,” “Tin Man\,” “Lonely People\,” and “Sister Golden Hair” were cornerstones of 1970’s Top 40 and FM rock radio. The combination of melodic pop rock and folk-jazz elements\, slinky Latin-leaning rhythms and impressionistic lyric imagery contrasted well with other more traditional country-rock leanings and highly personal lyrics. \nAMERICA’s albums–six certified gold and/or platinum\, with their first greatest hits collection\, History\, displayed a fuller range of the trio’s talents than did their singles. AMERICA displayed a flawless blend of disparate genres and styles as wide-open as the great American plains. \nTheir growth as singers\, songwriters and musicians has continued into the present day as illustrated by landmark releases such as 2000’s Highway 3-disc box set\, 2002’s Holiday Harmony\, 2007’s Here & Now\, 2009’s Live In Concert: Wildwood Springs\, 2011’s Back Pages\, and 2015’s Lost And Found and America: Archives Vol. 1. \nFrom their formative years\, AMERICA has been a band capable of transcending borders with its uplifting music and positive message. Embracing a rainbow of divergent cultures\, America’s audiences continue to grow\, comprising a loyal legion of first\, second and third generation fans\, all bearing testament to the group’s enduring appeal.
URL:https://www.niagarafallshotels.com/niagara-falls-events/america/
LOCATION:Fallsview Casino – OLG Stage At Fallsview Casino – 6366 Stanley Avenue Niagara Falls L2G 3Y5\, Niagara Falls\, Ontario\, Canada
END:VEVENT
END:VCALENDAR