BEGIN:VCALENDAR
VERSION:2.0
PRODID:-//Niagara Falls Hotels - ECPv6.15.20//NONSGML v1.0//EN
CALSCALE:GREGORIAN
METHOD:PUBLISH
X-WR-CALNAME:Niagara Falls Hotels
X-ORIGINAL-URL:https://www.niagarafallshotels.com
X-WR-CALDESC:Events for Niagara Falls Hotels
REFRESH-INTERVAL;VALUE=DURATION:PT1H
X-Robots-Tag:noindex
X-PUBLISHED-TTL:PT1H
BEGIN:VTIMEZONE
TZID:America/Toronto
BEGIN:DAYLIGHT
TZOFFSETFROM:-0500
TZOFFSETTO:-0400
TZNAME:EDT
DTSTART:20250309T070000
END:DAYLIGHT
BEGIN:STANDARD
TZOFFSETFROM:-0400
TZOFFSETTO:-0500
TZNAME:EST
DTSTART:20251102T060000
END:STANDARD
BEGIN:DAYLIGHT
TZOFFSETFROM:-0500
TZOFFSETTO:-0400
TZNAME:EDT
DTSTART:20260308T070000
END:DAYLIGHT
BEGIN:STANDARD
TZOFFSETFROM:-0400
TZOFFSETTO:-0500
TZNAME:EST
DTSTART:20261101T060000
END:STANDARD
BEGIN:DAYLIGHT
TZOFFSETFROM:-0500
TZOFFSETTO:-0400
TZNAME:EDT
DTSTART:20270314T070000
END:DAYLIGHT
BEGIN:STANDARD
TZOFFSETFROM:-0400
TZOFFSETTO:-0500
TZNAME:EST
DTSTART:20271107T060000
END:STANDARD
END:VTIMEZONE
BEGIN:VEVENT
DTSTART;TZID=America/Toronto:20260501T110000
DTEND;TZID=America/Toronto:20260501T170000
DTSTAMP:20260421T062408
CREATED:20260415T152005Z
LAST-MODIFIED:20260415T152005Z
UID:10008474-1777633200-1777654800@www.niagarafallshotels.com
SUMMARY:Sip & Sizzle
DESCRIPTION:Sip & Sizzle is Back!\nEnjoy delicious barbeque and grilled-inspired tastings in Canada’s iconic wine destination. \nGrab your tasting pass for $65.95 and enjoy the heat of 8 unique BBQ and wine pairings of your choice carefully curated by participating wineries on a self-guided tour! \n \n\nDate: Weekends in May-Friday to Sunday\nTime: 11am – 5pm\nLocation: Participating Wineries
URL:https://www.niagarafallshotels.com/niagara-falls-events/sip-sizzle/2026-05-01/
END:VEVENT
BEGIN:VEVENT
DTSTART;TZID=America/Toronto:20260502T110000
DTEND;TZID=America/Toronto:20260502T170000
DTSTAMP:20260421T062408
CREATED:20260415T152005Z
LAST-MODIFIED:20260415T152005Z
UID:10008475-1777719600-1777741200@www.niagarafallshotels.com
SUMMARY:Sip & Sizzle
DESCRIPTION:Sip & Sizzle is Back!\nEnjoy delicious barbeque and grilled-inspired tastings in Canada’s iconic wine destination. \nGrab your tasting pass for $65.95 and enjoy the heat of 8 unique BBQ and wine pairings of your choice carefully curated by participating wineries on a self-guided tour! \n \n\nDate: Weekends in May-Friday to Sunday\nTime: 11am – 5pm\nLocation: Participating Wineries
URL:https://www.niagarafallshotels.com/niagara-falls-events/sip-sizzle/2026-05-02/
END:VEVENT
BEGIN:VEVENT
DTSTART;TZID=America/Toronto:20260503T110000
DTEND;TZID=America/Toronto:20260503T170000
DTSTAMP:20260421T062408
CREATED:20260415T152005Z
LAST-MODIFIED:20260415T152005Z
UID:10008476-1777806000-1777827600@www.niagarafallshotels.com
SUMMARY:Sip & Sizzle
DESCRIPTION:Sip & Sizzle is Back!\nEnjoy delicious barbeque and grilled-inspired tastings in Canada’s iconic wine destination. \nGrab your tasting pass for $65.95 and enjoy the heat of 8 unique BBQ and wine pairings of your choice carefully curated by participating wineries on a self-guided tour! \n \n\nDate: Weekends in May-Friday to Sunday\nTime: 11am – 5pm\nLocation: Participating Wineries
URL:https://www.niagarafallshotels.com/niagara-falls-events/sip-sizzle/2026-05-03/
END:VEVENT
BEGIN:VEVENT
DTSTART;TZID=America/Toronto:20260508T110000
DTEND;TZID=America/Toronto:20260508T170000
DTSTAMP:20260421T062408
CREATED:20260415T152005Z
LAST-MODIFIED:20260415T152005Z
UID:10008477-1778238000-1778259600@www.niagarafallshotels.com
SUMMARY:Sip & Sizzle
DESCRIPTION:Sip & Sizzle is Back!\nEnjoy delicious barbeque and grilled-inspired tastings in Canada’s iconic wine destination. \nGrab your tasting pass for $65.95 and enjoy the heat of 8 unique BBQ and wine pairings of your choice carefully curated by participating wineries on a self-guided tour! \n \n\nDate: Weekends in May-Friday to Sunday\nTime: 11am – 5pm\nLocation: Participating Wineries
URL:https://www.niagarafallshotels.com/niagara-falls-events/sip-sizzle/2026-05-08/
END:VEVENT
BEGIN:VEVENT
DTSTART;TZID=America/Toronto:20260509T110000
DTEND;TZID=America/Toronto:20260509T170000
DTSTAMP:20260421T062408
CREATED:20260415T152005Z
LAST-MODIFIED:20260415T152005Z
UID:10008478-1778324400-1778346000@www.niagarafallshotels.com
SUMMARY:Sip & Sizzle
DESCRIPTION:Sip & Sizzle is Back!\nEnjoy delicious barbeque and grilled-inspired tastings in Canada’s iconic wine destination. \nGrab your tasting pass for $65.95 and enjoy the heat of 8 unique BBQ and wine pairings of your choice carefully curated by participating wineries on a self-guided tour! \n \n\nDate: Weekends in May-Friday to Sunday\nTime: 11am – 5pm\nLocation: Participating Wineries
URL:https://www.niagarafallshotels.com/niagara-falls-events/sip-sizzle/2026-05-09/
END:VEVENT
BEGIN:VEVENT
DTSTART;TZID=America/Toronto:20260510T110000
DTEND;TZID=America/Toronto:20260510T170000
DTSTAMP:20260421T062408
CREATED:20260415T152005Z
LAST-MODIFIED:20260415T152005Z
UID:10008479-1778410800-1778432400@www.niagarafallshotels.com
SUMMARY:Sip & Sizzle
DESCRIPTION:Sip & Sizzle is Back!\nEnjoy delicious barbeque and grilled-inspired tastings in Canada’s iconic wine destination. \nGrab your tasting pass for $65.95 and enjoy the heat of 8 unique BBQ and wine pairings of your choice carefully curated by participating wineries on a self-guided tour! \n \n\nDate: Weekends in May-Friday to Sunday\nTime: 11am – 5pm\nLocation: Participating Wineries
URL:https://www.niagarafallshotels.com/niagara-falls-events/sip-sizzle/2026-05-10/
END:VEVENT
BEGIN:VEVENT
DTSTART;TZID=America/Toronto:20260515T110000
DTEND;TZID=America/Toronto:20260515T170000
DTSTAMP:20260421T062408
CREATED:20260415T152005Z
LAST-MODIFIED:20260415T152005Z
UID:10008480-1778842800-1778864400@www.niagarafallshotels.com
SUMMARY:Sip & Sizzle
DESCRIPTION:Sip & Sizzle is Back!\nEnjoy delicious barbeque and grilled-inspired tastings in Canada’s iconic wine destination. \nGrab your tasting pass for $65.95 and enjoy the heat of 8 unique BBQ and wine pairings of your choice carefully curated by participating wineries on a self-guided tour! \n \n\nDate: Weekends in May-Friday to Sunday\nTime: 11am – 5pm\nLocation: Participating Wineries
URL:https://www.niagarafallshotels.com/niagara-falls-events/sip-sizzle/2026-05-15/
END:VEVENT
BEGIN:VEVENT
DTSTART;TZID=America/Toronto:20260516T110000
DTEND;TZID=America/Toronto:20260516T170000
DTSTAMP:20260421T062408
CREATED:20260415T152005Z
LAST-MODIFIED:20260415T152005Z
UID:10008481-1778929200-1778950800@www.niagarafallshotels.com
SUMMARY:Sip & Sizzle
DESCRIPTION:Sip & Sizzle is Back!\nEnjoy delicious barbeque and grilled-inspired tastings in Canada’s iconic wine destination. \nGrab your tasting pass for $65.95 and enjoy the heat of 8 unique BBQ and wine pairings of your choice carefully curated by participating wineries on a self-guided tour! \n \n\nDate: Weekends in May-Friday to Sunday\nTime: 11am – 5pm\nLocation: Participating Wineries
URL:https://www.niagarafallshotels.com/niagara-falls-events/sip-sizzle/2026-05-16/
END:VEVENT
BEGIN:VEVENT
DTSTART;TZID=America/Toronto:20260517T110000
DTEND;TZID=America/Toronto:20260517T170000
DTSTAMP:20260421T062408
CREATED:20260415T152005Z
LAST-MODIFIED:20260415T152005Z
UID:10008482-1779015600-1779037200@www.niagarafallshotels.com
SUMMARY:Sip & Sizzle
DESCRIPTION:Sip & Sizzle is Back!\nEnjoy delicious barbeque and grilled-inspired tastings in Canada’s iconic wine destination. \nGrab your tasting pass for $65.95 and enjoy the heat of 8 unique BBQ and wine pairings of your choice carefully curated by participating wineries on a self-guided tour! \n \n\nDate: Weekends in May-Friday to Sunday\nTime: 11am – 5pm\nLocation: Participating Wineries
URL:https://www.niagarafallshotels.com/niagara-falls-events/sip-sizzle/2026-05-17/
END:VEVENT
BEGIN:VEVENT
DTSTART;TZID=America/Toronto:20260522T110000
DTEND;TZID=America/Toronto:20260522T170000
DTSTAMP:20260421T062408
CREATED:20260415T152005Z
LAST-MODIFIED:20260415T152005Z
UID:10008483-1779447600-1779469200@www.niagarafallshotels.com
SUMMARY:Sip & Sizzle
DESCRIPTION:Sip & Sizzle is Back!\nEnjoy delicious barbeque and grilled-inspired tastings in Canada’s iconic wine destination. \nGrab your tasting pass for $65.95 and enjoy the heat of 8 unique BBQ and wine pairings of your choice carefully curated by participating wineries on a self-guided tour! \n \n\nDate: Weekends in May-Friday to Sunday\nTime: 11am – 5pm\nLocation: Participating Wineries
URL:https://www.niagarafallshotels.com/niagara-falls-events/sip-sizzle/2026-05-22/
END:VEVENT
BEGIN:VEVENT
DTSTART;TZID=America/Toronto:20260523T110000
DTEND;TZID=America/Toronto:20260523T170000
DTSTAMP:20260421T062408
CREATED:20260415T152005Z
LAST-MODIFIED:20260415T152005Z
UID:10008484-1779534000-1779555600@www.niagarafallshotels.com
SUMMARY:Sip & Sizzle
DESCRIPTION:Sip & Sizzle is Back!\nEnjoy delicious barbeque and grilled-inspired tastings in Canada’s iconic wine destination. \nGrab your tasting pass for $65.95 and enjoy the heat of 8 unique BBQ and wine pairings of your choice carefully curated by participating wineries on a self-guided tour! \n \n\nDate: Weekends in May-Friday to Sunday\nTime: 11am – 5pm\nLocation: Participating Wineries
URL:https://www.niagarafallshotels.com/niagara-falls-events/sip-sizzle/2026-05-23/
END:VEVENT
BEGIN:VEVENT
DTSTART;TZID=America/Toronto:20260524T110000
DTEND;TZID=America/Toronto:20260524T170000
DTSTAMP:20260421T062408
CREATED:20260415T152005Z
LAST-MODIFIED:20260415T152005Z
UID:10008485-1779620400-1779642000@www.niagarafallshotels.com
SUMMARY:Sip & Sizzle
DESCRIPTION:Sip & Sizzle is Back!\nEnjoy delicious barbeque and grilled-inspired tastings in Canada’s iconic wine destination. \nGrab your tasting pass for $65.95 and enjoy the heat of 8 unique BBQ and wine pairings of your choice carefully curated by participating wineries on a self-guided tour! \n \n\nDate: Weekends in May-Friday to Sunday\nTime: 11am – 5pm\nLocation: Participating Wineries
URL:https://www.niagarafallshotels.com/niagara-falls-events/sip-sizzle/2026-05-24/
END:VEVENT
BEGIN:VEVENT
DTSTART;TZID=America/Toronto:20260529T110000
DTEND;TZID=America/Toronto:20260529T170000
DTSTAMP:20260421T062408
CREATED:20260415T152005Z
LAST-MODIFIED:20260415T152005Z
UID:10008486-1780052400-1780074000@www.niagarafallshotels.com
SUMMARY:Sip & Sizzle
DESCRIPTION:Sip & Sizzle is Back!\nEnjoy delicious barbeque and grilled-inspired tastings in Canada’s iconic wine destination. \nGrab your tasting pass for $65.95 and enjoy the heat of 8 unique BBQ and wine pairings of your choice carefully curated by participating wineries on a self-guided tour! \n \n\nDate: Weekends in May-Friday to Sunday\nTime: 11am – 5pm\nLocation: Participating Wineries
URL:https://www.niagarafallshotels.com/niagara-falls-events/sip-sizzle/2026-05-29/
END:VEVENT
BEGIN:VEVENT
DTSTART;TZID=America/Toronto:20260530T110000
DTEND;TZID=America/Toronto:20260530T170000
DTSTAMP:20260421T062408
CREATED:20260415T152005Z
LAST-MODIFIED:20260415T152005Z
UID:10008487-1780138800-1780160400@www.niagarafallshotels.com
SUMMARY:Sip & Sizzle
DESCRIPTION:Sip & Sizzle is Back!\nEnjoy delicious barbeque and grilled-inspired tastings in Canada’s iconic wine destination. \nGrab your tasting pass for $65.95 and enjoy the heat of 8 unique BBQ and wine pairings of your choice carefully curated by participating wineries on a self-guided tour! \n \n\nDate: Weekends in May-Friday to Sunday\nTime: 11am – 5pm\nLocation: Participating Wineries
URL:https://www.niagarafallshotels.com/niagara-falls-events/sip-sizzle/2026-05-30/
END:VEVENT
BEGIN:VEVENT
DTSTART;TZID=America/Toronto:20260531T110000
DTEND;TZID=America/Toronto:20260531T170000
DTSTAMP:20260421T062408
CREATED:20260415T152005Z
LAST-MODIFIED:20260415T152005Z
UID:10008488-1780225200-1780246800@www.niagarafallshotels.com
SUMMARY:Sip & Sizzle
DESCRIPTION:Sip & Sizzle is Back!\nEnjoy delicious barbeque and grilled-inspired tastings in Canada’s iconic wine destination. \nGrab your tasting pass for $65.95 and enjoy the heat of 8 unique BBQ and wine pairings of your choice carefully curated by participating wineries on a self-guided tour! \n \n\nDate: Weekends in May-Friday to Sunday\nTime: 11am – 5pm\nLocation: Participating Wineries
URL:https://www.niagarafallshotels.com/niagara-falls-events/sip-sizzle/2026-05-31/
END:VEVENT
END:VCALENDAR