BEGIN:VCALENDAR
VERSION:2.0
PRODID:-//Niagara Falls Hotels - ECPv6.15.20//NONSGML v1.0//EN
CALSCALE:GREGORIAN
METHOD:PUBLISH
X-WR-CALNAME:Niagara Falls Hotels
X-ORIGINAL-URL:https://www.niagarafallshotels.com
X-WR-CALDESC:Events for Niagara Falls Hotels
REFRESH-INTERVAL;VALUE=DURATION:PT1H
X-Robots-Tag:noindex
X-PUBLISHED-TTL:PT1H
BEGIN:VTIMEZONE
TZID:America/Toronto
BEGIN:DAYLIGHT
TZOFFSETFROM:-0500
TZOFFSETTO:-0400
TZNAME:EDT
DTSTART:20250309T070000
END:DAYLIGHT
BEGIN:STANDARD
TZOFFSETFROM:-0400
TZOFFSETTO:-0500
TZNAME:EST
DTSTART:20251102T060000
END:STANDARD
BEGIN:DAYLIGHT
TZOFFSETFROM:-0500
TZOFFSETTO:-0400
TZNAME:EDT
DTSTART:20260308T070000
END:DAYLIGHT
BEGIN:STANDARD
TZOFFSETFROM:-0400
TZOFFSETTO:-0500
TZNAME:EST
DTSTART:20261101T060000
END:STANDARD
BEGIN:DAYLIGHT
TZOFFSETFROM:-0500
TZOFFSETTO:-0400
TZNAME:EDT
DTSTART:20270314T070000
END:DAYLIGHT
BEGIN:STANDARD
TZOFFSETFROM:-0400
TZOFFSETTO:-0500
TZNAME:EST
DTSTART:20271107T060000
END:STANDARD
END:VTIMEZONE
BEGIN:VEVENT
DTSTART;TZID=America/Toronto:20260508T123000
DTEND;TZID=America/Toronto:20260508T203000
DTSTAMP:20260421T062408
CREATED:20260415T144201Z
LAST-MODIFIED:20260415T144201Z
UID:10008467-1778243400-1778272200@www.niagarafallshotels.com
SUMMARY:Niagara-on-the-Lake In Bloom Festival
DESCRIPTION:A Four-Day Celebration of Food\, Flowers & Community! \nExplore a floral wonderland as Niagara-on-the-Lake comes alive with stunning blooms and artful floral installations around every corner. The Niagara-on-the-Lake In Bloom Festival celebrates “All Creatures BIG or Small” with town-wide floral installations\, immersive workshops\, special dining events\, and a vibrant event hub in the heart of Heritage District from May 8-11\, 2026! \nMay 8-11th – The Garden Fair \n \nExplore a boutique vendor fair set amongst the gardens of the Pillar and Post while enjoying live music\, and light fare. \nEnjoy a welcome reception\, bonnet parade\, and beautifully crafted 3-course lunch hosted by KISS 95.5’s \nMay 8th – Bonnet Luncheon Sue O’Neil. Done your favourite hat or bonnet for a chance to win the coveted prize for “Best Bonnet” \nMay 9th – Birds Of A Feather Gala Dinner \n \nA sparkling reception and gourmet dinner celebrating the magic of winged creatures. Floral installations make this a night of beauty\, inspiration and celebration. \nMay 10th – Bubble & Blooms Afternoon Tea \nDelight in the Monet-inspired Garden Barn at Pillar and Post for an afternoon of bubbly and delicious bites. Estate Teas will be served alongside Niagara Cheese.
URL:https://www.niagarafallshotels.com/niagara-falls-events/niagara-on-the-lake-in-bloom-festival/2026-05-08/
LOCATION:Niagara On The Lake
END:VEVENT
BEGIN:VEVENT
DTSTART;TZID=America/Toronto:20260509T103000
DTEND;TZID=America/Toronto:20260509T200000
DTSTAMP:20260421T062408
CREATED:20260415T144201Z
LAST-MODIFIED:20260415T144201Z
UID:10008468-1778322600-1778356800@www.niagarafallshotels.com
SUMMARY:Niagara-on-the-Lake In Bloom Festival
DESCRIPTION:A Four-Day Celebration of Food\, Flowers & Community! \nExplore a floral wonderland as Niagara-on-the-Lake comes alive with stunning blooms and artful floral installations around every corner. The Niagara-on-the-Lake In Bloom Festival celebrates “All Creatures BIG or Small” with town-wide floral installations\, immersive workshops\, special dining events\, and a vibrant event hub in the heart of Heritage District from May 8-11\, 2026! \nMay 8-11th – The Garden Fair \n \nExplore a boutique vendor fair set amongst the gardens of the Pillar and Post while enjoying live music\, and light fare. \nEnjoy a welcome reception\, bonnet parade\, and beautifully crafted 3-course lunch hosted by KISS 95.5’s \nMay 8th – Bonnet Luncheon Sue O’Neil. Done your favourite hat or bonnet for a chance to win the coveted prize for “Best Bonnet” \nMay 9th – Birds Of A Feather Gala Dinner \n \nA sparkling reception and gourmet dinner celebrating the magic of winged creatures. Floral installations make this a night of beauty\, inspiration and celebration. \nMay 10th – Bubble & Blooms Afternoon Tea \nDelight in the Monet-inspired Garden Barn at Pillar and Post for an afternoon of bubbly and delicious bites. Estate Teas will be served alongside Niagara Cheese.
URL:https://www.niagarafallshotels.com/niagara-falls-events/niagara-on-the-lake-in-bloom-festival/2026-05-09/
LOCATION:Niagara On The Lake
END:VEVENT
BEGIN:VEVENT
DTSTART;TZID=America/Toronto:20260510T103000
DTEND;TZID=America/Toronto:20260510T210000
DTSTAMP:20260421T062408
CREATED:20260415T144201Z
LAST-MODIFIED:20260415T144201Z
UID:10008469-1778409000-1778446800@www.niagarafallshotels.com
SUMMARY:Niagara-on-the-Lake In Bloom Festival
DESCRIPTION:A Four-Day Celebration of Food\, Flowers & Community! \nExplore a floral wonderland as Niagara-on-the-Lake comes alive with stunning blooms and artful floral installations around every corner. The Niagara-on-the-Lake In Bloom Festival celebrates “All Creatures BIG or Small” with town-wide floral installations\, immersive workshops\, special dining events\, and a vibrant event hub in the heart of Heritage District from May 8-11\, 2026! \nMay 8-11th – The Garden Fair \n \nExplore a boutique vendor fair set amongst the gardens of the Pillar and Post while enjoying live music\, and light fare. \nEnjoy a welcome reception\, bonnet parade\, and beautifully crafted 3-course lunch hosted by KISS 95.5’s \nMay 8th – Bonnet Luncheon Sue O’Neil. Done your favourite hat or bonnet for a chance to win the coveted prize for “Best Bonnet” \nMay 9th – Birds Of A Feather Gala Dinner \n \nA sparkling reception and gourmet dinner celebrating the magic of winged creatures. Floral installations make this a night of beauty\, inspiration and celebration. \nMay 10th – Bubble & Blooms Afternoon Tea \nDelight in the Monet-inspired Garden Barn at Pillar and Post for an afternoon of bubbly and delicious bites. Estate Teas will be served alongside Niagara Cheese.
URL:https://www.niagarafallshotels.com/niagara-falls-events/niagara-on-the-lake-in-bloom-festival/2026-05-10/
LOCATION:Niagara On The Lake
END:VEVENT
BEGIN:VEVENT
DTSTART;TZID=America/Toronto:20260511T103000
DTEND;TZID=America/Toronto:20260511T153000
DTSTAMP:20260421T062408
CREATED:20260415T144201Z
LAST-MODIFIED:20260415T144201Z
UID:10008470-1778495400-1778513400@www.niagarafallshotels.com
SUMMARY:Niagara-on-the-Lake In Bloom Festival
DESCRIPTION:A Four-Day Celebration of Food\, Flowers & Community! \nExplore a floral wonderland as Niagara-on-the-Lake comes alive with stunning blooms and artful floral installations around every corner. The Niagara-on-the-Lake In Bloom Festival celebrates “All Creatures BIG or Small” with town-wide floral installations\, immersive workshops\, special dining events\, and a vibrant event hub in the heart of Heritage District from May 8-11\, 2026! \nMay 8-11th – The Garden Fair \n \nExplore a boutique vendor fair set amongst the gardens of the Pillar and Post while enjoying live music\, and light fare. \nEnjoy a welcome reception\, bonnet parade\, and beautifully crafted 3-course lunch hosted by KISS 95.5’s \nMay 8th – Bonnet Luncheon Sue O’Neil. Done your favourite hat or bonnet for a chance to win the coveted prize for “Best Bonnet” \nMay 9th – Birds Of A Feather Gala Dinner \n \nA sparkling reception and gourmet dinner celebrating the magic of winged creatures. Floral installations make this a night of beauty\, inspiration and celebration. \nMay 10th – Bubble & Blooms Afternoon Tea \nDelight in the Monet-inspired Garden Barn at Pillar and Post for an afternoon of bubbly and delicious bites. Estate Teas will be served alongside Niagara Cheese.
URL:https://www.niagarafallshotels.com/niagara-falls-events/niagara-on-the-lake-in-bloom-festival/2026-05-11/
LOCATION:Niagara On The Lake
END:VEVENT
END:VCALENDAR